BEGIN:VCALENDAR
VERSION:2.0
PRODID:-//Unionhilfswerk //NONSGML Events //EN
CALSCALE:GREGORIAN
X-WR-CALNAME:Unionhilfswerk
BEGIN:VEVENT
CREATED:20260218T115709
UID:7888
DTSTART;VALUE=DATE:20260831T130000
DTEND;VALUE=DATE:20260831T150000
DTSTAMP:20260422T084229
LOCATION:\, \,  
DESCRIPTION:
SUMMARY:Schifffahrt
ORGANIZER:
URL;VALUE=URI:https://www.unionhilfswerk.de/ueber-uns/landesverband-berlin/termine/schifffahrt-14/
TRANSP:OPAQUE
END:VEVENT
END:VCALENDAR
