BEGIN:VCALENDAR
VERSION:2.0
PRODID:-//Unionhilfswerk //NONSGML Events //EN
CALSCALE:GREGORIAN
X-WR-CALNAME:Unionhilfswerk
BEGIN:VEVENT
CREATED:20260220T130929
UID:7917
DTSTART;VALUE=DATE:20260529T103000
DTEND;VALUE=DATE:20260529T123000
DTSTAMP:20260422T084216
LOCATION:Seniorenzentrum Friedrichshain\, Singerstraße 83\, 10243 Berlin
DESCRIPTION:
SUMMARY:Gemeinsam i(s)st man weniger allein….
ORGANIZER:
URL;VALUE=URI:https://www.unionhilfswerk.de/ueber-uns/landesverband-berlin/termine/gemeinsam-isst-man-weniger-allein-4/
TRANSP:OPAQUE
END:VEVENT
END:VCALENDAR
